BEGIN:VCALENDAR
VERSION:2.0
PRODID:-//ECKANKAR in Wisconsin - ECPv6.15.20//NONSGML v1.0//EN
CALSCALE:GREGORIAN
METHOD:PUBLISH
X-WR-CALNAME:ECKANKAR in Wisconsin
X-ORIGINAL-URL:https://eckankar-wi.org
X-WR-CALDESC:Events for ECKANKAR in Wisconsin
REFRESH-INTERVAL;VALUE=DURATION:PT1H
X-Robots-Tag:noindex
X-PUBLISHED-TTL:PT1H
BEGIN:VTIMEZONE
TZID:America/Chicago
BEGIN:DAYLIGHT
TZOFFSETFROM:-0600
TZOFFSETTO:-0500
TZNAME:CDT
DTSTART:20250309T080000
END:DAYLIGHT
BEGIN:STANDARD
TZOFFSETFROM:-0500
TZOFFSETTO:-0600
TZNAME:CST
DTSTART:20251102T070000
END:STANDARD
BEGIN:DAYLIGHT
TZOFFSETFROM:-0600
TZOFFSETTO:-0500
TZNAME:CDT
DTSTART:20260308T080000
END:DAYLIGHT
BEGIN:STANDARD
TZOFFSETFROM:-0500
TZOFFSETTO:-0600
TZNAME:CST
DTSTART:20261101T070000
END:STANDARD
BEGIN:DAYLIGHT
TZOFFSETFROM:-0600
TZOFFSETTO:-0500
TZNAME:CDT
DTSTART:20270314T080000
END:DAYLIGHT
BEGIN:STANDARD
TZOFFSETFROM:-0500
TZOFFSETTO:-0600
TZNAME:CST
DTSTART:20271107T070000
END:STANDARD
END:VTIMEZONE
BEGIN:VEVENT
DTSTART;TZID=America/Chicago:20260404T130000
DTEND;TZID=America/Chicago:20260404T143000
DTSTAMP:20260422T070400
CREATED:20260320T184125Z
LAST-MODIFIED:20260320T184352Z
UID:10001076-1775307600-1775313000@eckankar-wi.org
SUMMARY:Have You Had a Spiritual Experience?
DESCRIPTION:Have You Had a Spiritual Experience?Join us for an Open Discussion \nWhat qualifies as a “spiritual experience”?\nPerhaps it was a coincidence—profound or simple. A dream so real it didn’t feel like a dream. Or maybe something “weird” that you just can’t explain. \nFREE. All viewpoints are recognized\, welcomed\, and respected. \nLearn more: Visit ECKANKAR.org\nQuestions? Email newi.wss@gmail.com
URL:https://eckankar-wi.org/event/have-you-had-a-spiritual-experience/
LOCATION:Door County Public Library\, 107 South 4th Avenue\, Sturgeon Bay\, WI\, 54235
CATEGORIES:In-person,Spiritual Discussion,Sturgeon Bay
ATTACH;FMTTYPE=image/jpeg:https://eckankar-wi.org/wp-content/uploads/2023/10/Nature_82_color-scaled.jpg
GEO:44.8335432;-87.3744821
X-APPLE-STRUCTURED-LOCATION;VALUE=URI;X-ADDRESS=Door County Public Library 107 South 4th Avenue Sturgeon Bay WI 54235;X-APPLE-RADIUS=500;X-TITLE=107 South 4th Avenue:geo:-87.3744821,44.8335432
END:VEVENT
BEGIN:VEVENT
DTSTART;TZID=America/Chicago:20260328T110000
DTEND;TZID=America/Chicago:20260328T120000
DTSTAMP:20260422T070400
CREATED:20260215T184638Z
LAST-MODIFIED:20260215T184638Z
UID:10000509-1774695600-1774699200@eckankar-wi.org
SUMMARY:Dreaming
DESCRIPTION:Spiritual Discussion— \nDreamingWe all have dreams\, whether we remember them or not! \n• Do you want to learn more about your dreams?\n• How can dreams set you free?\n• Who can best interpret your dreams?\n• How can working with your dreams change your destiny? \nQuestions? Please leave a message at (608) 665-0826.
URL:https://eckankar-wi.org/event/dreaming/
LOCATION:ECKANKAR Center of Wisconsin\, 6501 Watts Road\, Suite 150\, Madison\, WI\, 53719
CATEGORIES:ECK Soul Adventure Event,In-person,Madison,Spiritual Conversation
ATTACH;FMTTYPE=image/jpeg:https://eckankar-wi.org/wp-content/uploads/2026/02/2022-WSS-ELSS-March-6-Graphic-Banner.jpg
GEO:43.0497525;-89.4936395
X-APPLE-STRUCTURED-LOCATION;VALUE=URI;X-ADDRESS=ECKANKAR Center of Wisconsin 6501 Watts Road Suite 150 Madison WI 53719;X-APPLE-RADIUS=500;X-TITLE=6501 Watts Road\, Suite 150:geo:-89.4936395,43.0497525
END:VEVENT
END:VCALENDAR